Workbook

Sheet 세입.세출 총괄표
A1: 2020년도 학습지원센터 세입, 세출예산서
A2: <세입. 세출 총괄> | N2: (단위 : 천원)
A3: 세 입 | H3: 세 출
A4: 관 | B4: 항 | C4: 목 | D4: 2019 예산(A) | E4: 2020 예산(B) | F4: 증감(B-A) | H4: 관 | I4: 항 | J4: 목 | K4: 2019 예산(A) | L4: 2020 예산(B) | M4: 증감(B-A)
F5: 금액 | G5: 비율(%) | M5: 금액 | N5: 비율(%)
A6: 계 | D6: =SUM(D8:D19) -> 741506 | E6: =SUM(E8:E19) -> 767603 | F6: =SUM(F8:F19) -> 26097 | G6: =F6/D6 -> 0.03519459 | H6: 계 | K6: =K8+K30+K40+K48 -> 741506 | L6: =L8+L30+L40+L48 -> 767603 | M6: =L6-K6 -> 26097 | N6: =M6/K6 -> 0.03519459
A8: 보조금 수입 | B8: 보조금 수입 | H8: 사무비 | K8: =K10+K22 -> 570634 | L8: =L10+L22 -> 593228.2 | M8: =L8-K8 -> 22594.2 | N8: =M8/K8 -> 0.039594907
C10: 보조금 수입 | D10: ='2020년 세입세출'!E7 -> 636412 | E10: ='2020년 세입세출'!F7 -> 654443 | F10: =E10-D10 -> 18031 | G10: =F10/D10 -> 0.028332275 | I10: 인건비 | K10: =SUM(K12:K21) -> 566638 | L10: =SUM(L12:L21) -> 590132.2 | M10: =L10-K10 -> 23494.2 | N10: =M10/K10 -> 0.04146245
A12: 전입금 | B12: 전입금 | J12: 급여 | K12: ='2020년 세입세출'!E26+'2020년 세입세출'!E27 -> 385241 | L12: ='2020년 세입세출'!F26+'2020년 세입세출'!F27 -> 405187 | M12: =L12-K12 -> 19946 | N12: =M12/K12 -> 0.051775382
C14: 전입금 | D14: ='2020년 세입세출'!E12 -> 104942 | E14: ='2020년 세입세출'!F12 -> 113003 | F14: =E14-D14 -> 8061 | G14: =F14/D14 -> 0.076813859 | J14: 제수당 | K14: ='2020년 세입세출'!E58+'2020년 세입세출'!E59 -> 90158 | L14: ='2020년 세입세출'!F58+'2020년 세입세출'!F59 -> 90750.9 | M14: =L14-K14 -> 592.9 | N14: =M14/K14 -> 0.0065762328
A16: 전년도 이월금 | B16: 전년도 이월금 | C16: 전년도 이월금 | D16: ='2020년 세입세출'!E14 -> 9 | E16: ='2020년 세입세출'!F14 -> 7 | F16: =E16-D16 -> -2 | G16: =F16/D16 -> -0.22222222 | J16: 퇴직 적립금 | K16: =SUM('2020년 세입세출'!E75:E78) -> 39443 | L16: =SUM('2020년 세입세출'!F75:F78) -> 41661.5 | M16: =L16-K16 -> 2218.5 | N16: =M16/K16 -> 0.056245722
A18: 잡수입 | B18: 잡수입 | C18: 잡수입 | D18: ='2020년 세입세출'!E16 -> 143 | E18: ='2020년 세입세출'!F16 -> 150 | F18: =E18-D18 -> 7 | G18: =F18/D18 -> 0.048951049 | J18: 사회보험 부담비용 | K18: =SUM('2020년 세입세출'!E82:E85) -> 48262 | L18: =SUM('2020년 세입세출'!F82:F85) -> 51622.8 | M18: =L18-K18 -> 3360.8 | N18: =M18/K18 -> 0.069636567
J20: 기타 후생경비 | K20: =SUM('2020년 세입세출'!E72:E74) -> 3534 | L20: =SUM('2020년 세입세출'!F72:F74) -> 910 | M20: =L20-K20 -> -2624 | N20: =M20/K20 -> -0.74250141
I22: 운영비 | K22: =SUM(K24:K29) -> 3996 | L22: =SUM(L24:L29) -> 3096 | M22: =L22-K22 -> -900 | N22: =M22/K22 -> -0.22522523
J24: 여비 | K24: ='2020년 세입세출'!E97 -> 0 | L24: ='2020년 세입세출'!F97 -> 0 | M24: =L24-K24 -> 0 | N24: =M24/K24 -> #DIV/0!
J26: 수용비 및 수수료 | K26: ='2020년 세입세출'!E99 -> 3996 | L26: ='2020년 세입세출'!F99 -> 3096 | M26: =L26-K26 -> -900 | N26: =M26/K26 -> -0.22522523
J28: 공공요금 | K28: 0 | L28: 0 | M28: =L28-K28 -> 0 | N28: 1
H30: 재산조성비 | I30: 시설비 | K30: =SUM(K36:K39) -> 0 | L30: =SUM(L36:L39) -> 0 | M30: =L30-K30 -> 0 | N30: =M30/K30 -> #DIV/0!
A32: <세입. 세출 총괄> | N32: (단위 : 천원)
A33: 세 입 | H33: 세 출
A34: 관 | B34: 항 | C34: 목 | D34: 2019 예산(A) | E34: 2020 예산(B) | F34: 증감(B-A) | H34: 관 | I34: 항 | J34: 목 | K34: 2019 예산(A) | L34: 2020 예산(B) | M34: 증감(B-A)
F35: 금액 | G35: 비율(%) | M35: 금액 | N35: 비율(%)
J36: 자산취득비 | K36: 0 | L36: 0 | M36: =L36-K36 -> 0 | N36: =M36/K36 -> #DIV/0!
J38: 시설장비 유지보수비 | K38: 0 | L38: 0 | M38: =L38-K38 -> 0 | N38: =M38/K38 -> #DIV/0!
H40: 사업비 | I40: 사업비 | K40: =SUM(K42+K44+K46) -> 167872 | L40: =SUM(L42+L44+L46) -> 173374.8 | M40: =L40-K40 -> 5502.8 | N40: =M40/K40 -> 0.032779737
J42: 화면해설서비스사업 | K42: =SUM('2020년 세입세출'!E119:E120) -> 105860 | L42: =SUM('2020년 세입세출'!F119:F120) -> 114260 | M42: =L42-K42 -> 8400 | N42: =M42/K42 -> 0.079350085
J44: 학습지원대체자료지원 서비스 | K44: =SUM('2020년 세입세출'!E145:E146) -> 18654 | L44: =SUM('2020년 세입세출'!F145:F146) -> 18364.8 | M44: =L44-K44 -> -289.2 | N44: =M44/K44 -> -0.015503377
J46: 정보제공사업 | K46: =SUM('2020년 세입세출'!E196:E197) -> 43358 | L46: =SUM('2020년 세입세출'!F196:F197) -> 40750 | M46: =L46-K46 -> -2608 | N46: =M46/K46 -> -0.060150376
H48: 예비비 및 기타 | I48: 예비비 및 기타 | K48: =SUM(K49:K50) -> 3000 | L48: =SUM(L49:L50) -> 1000 | M48: =L48-K48 -> -2000 | N48: =M48/K48 -> -0.66666667
J49: 예비비 | K49: =SUM('2020년 세입세출'!E211:E212) -> 2930 | L49: =SUM('2020년 세입세출'!F211:F212) -> 930 | M49: =L49-K49 -> -2000 | N49: =M49/K49 -> -0.68259386
J50: 반환금 | K50: =SUM('2020년 세입세출'!E213:E214) -> 70 | L50: =SUM('2020년 세입세출'!F213:F214) -> 70 | M50: =L50-K50 -> 0 | N50: =M50/K50 -> 0

Sheet 2020년 세입세출
A1: 2020 학습지원센터 예산서
A2: <세입> | R2: (단위 : 천원)
A3: 관 | B3: 항 | C3: 목 | D3: 세목 | E3: 19보조금(C) | F3: 20보조금(C) | G3: 증감 | I3: 산출내역
E4: 19자부담(D) | F4: 20자부담(D) | G4: 금액 | H4: 비율(%)
A5: 계 | E5: =E9+E11+E15+E13 -> 636412 | F5: =F9+F11+F15+F13 -> 654443 | G5: =F5+F6-E5-E6 -> 26097 | H5: =G5/E5:E6 -> 0.041006455
E6: =E10+E12+E16+E14 -> 105094 | F6: =F10+F12+F16+F14 -> 113160
A7: 보조금 수입 | B7: 보조금 수입 | E7: =E9 -> 636412 | F7: =F9 -> 654443
E8: 0 | F8: 0
C9: 보조금 수입 | E9: 636412 | F9: =R9/1000 -> 654443 | G9: =F9+F10-E9-E10 -> 18031 | H9: =G9/E9:E10 -> 0.028332275 | I9: 0 보조금수입 | R9: 654443000
E10: 0 | F10: 0
A11: 전입금 | B11: 전입금 | C11: 전입금 | E11: 0 | F11: 0 | G11: =F11+F12-E11-E12 -> 8061 | H11: =G11/E12 -> 0.076813859 | I11: 0 법인전입금 | R11: =R21-R15-R13 -> 113003000
E12: 104942 | F12: =R11/1000 -> 113003
A13: 이월금 | B13: 이월금 | C13: 이월금 | E13: 0 | F13: 0 | G13: =F13+F14-E13-E14 -> -2 | H13: =G13/E14 -> -0.22222222 | I13: 0 전년도 이월금 | R13: 7000
E14: 9 | F14: =R13/1000 -> 7
A15: 잡수입 | B15: 잡수입 | C15: 잡수입 | E15: 0 | F15: 0 | G15: =F15+F16-E15-E16 -> 7 | H15: =G15/E16 -> 0.048951049 | I15: 0 잡수입 | R15: 150000
E16: 143 | F16: =R15/1000 -> 150
A17: <세출> | R17: (단위 : 천원)
A18: 관 | B18: 항 | C18: 목 | D18: 세목 | E18: 19보조금(C) | F18: 20보조금(C) | G18: 증감 | I18: 산출내역
E19: 19자부담(D) | F19: 20자부담(D) | G19: 금액 | H19: 비율(%)
A20: 계 | E20: =SUM(E22,E94,E107,E115) -> 636412 | F20: =SUM(F22,F94,F107,F115) -> 654443 | G20: =F20+F21-E20-E21 -> 26097 | H20: =G20/E20:E21 -> 0.041006455 | R20: =R22+R107+R115+R207 -> 654443000
E21: =SUM(E23,E108,E116,E207) -> 105094 | F21: =SUM(F23,F108,F116,F207) -> 113160 | R21: =R23+R108+R116+R208 -> 113160000
A22: 사무비 | E22: =SUM(E24,E94) -> 530308 | F22: =SUM(F24,F94) -> 546218 | G22: =F22+F23-E22-E23 -> 22594.2 | H22: =G22/E22:E23 -> 0.042605806 | R22: =R24+R94 -> 546218000
E23: =SUM(E25,E95) -> 40326 | F23: =SUM(F25,F95) -> 47010.2 | R23: =R25+R95 -> 47010200
B24: 인건비 | E24: =SUM(E26,E58,E72,E75,E82) -> 530308 | F24: =SUM(F26,F58,F72,F75,F82) -> 546218 | G24: =F24+F25-E24-E25 -> 23494.2 | H24: =G24/E24:E25 -> 0.044302933 | R24: =SUM(R54,R70,R77,R92) -> 546218000
E25: =SUM(E27,E59,E74,E77,E84) -> 36330 | F25: =SUM(F27,F59,F74,F77,F84) -> 43914.2 | R25: =SUM(R71,R74,R78,R93,R53) -> 43914200
C26: 급여 | E26: 384141 | F26: =R54/1000 -> 405147 | G26: =F26+F27-E26-E27 -> 19946 | H26: =G26/E26:E27 -> 0.051923643 | I26: 0 3급 29호봉 | J26: 4194000 | K26: * | L26: 1 | M26: 명 | N26: * | O26: 2 | P26: 월 | Q26: = | R26: =J26*L26*O26 -> 8388000
E27: 1100 | F27: =R53/1000 -> 40 | J27: 4250000 | K27: * | L27: 1 | M27: 명 | N27: * | O27: 10 | P27: 월 | Q27: = | R27: =J27*L27*O27 -> 42500000
I28: 0 4급 19호봉 | J28: 3301000 | K28: * | L28: 1 | M28: 명 | N28: * | O28: 3 | P28: 월 | Q28: = | R28: =J28*L28*O28 -> 9903000
J29: 3350000 | K29: * | L29: 1 | M29: 명 | N29: * | O29: 9 | P29: 월 | Q29: = | R29: =J29*L29*O29 -> 30150000
I30: 0 4급 15호봉 | J30: 3103000 | K30: * | L30: 1 | M30: 명 | N30: * | O30: 8 | P30: 월 | Q30: = | R30: =J30*L30*O30 -> 24824000
J31: 3151000 | K31: * | L31: 1 | M31: 명 | N31: * | O31: 4 | P31: 월 | Q31: = | R31: =J31*L31*O31 -> 12604000
I32: 0 5급 11호봉 | J32: 2640000 | K32: * | L32: 1 | M32: 명 | N32: * | O32: 10 | P32: 월 | Q32: = | R32: =J32*L32*O32 -> 26400000
J33: 2682000 | K33: * | L33: 1 | M33: 명 | N33: * | O33: 2 | P33: 월 | Q33: = | R33: =J33*L33*O33 -> 5364000
I34: 0 5급 8호봉 | J34: 2390000 | K34: * | L34: 1 | M34: 명 | N34: * | O34: 7 | P34: 월 | Q34: = | R34: =J34*L34*O34 -> 16730000
J35: 2475000 | K35: * | L35: 1 | M35: 명 | N35: * | O35: 5 | P35: 월 | Q35: = | R35: =J35*L35*O35 -> 12375000
I36: 0 5급 14호봉 | J36: 2776000 | K36: * | L36: 1 | M36: 명 | N36: * | O36: 12 | P36: 월 | Q36: = | R36: =J36*L36*O36 -> 33312000
I37: 0 5급 6호봉 | J37: 2237000 | K37: * | L37: 1 | M37: 명 | N37: * | O37: 3 | P37: 월 | Q37: = | R37: =J37*L37*O37 -> 6711000
J38: 2318000 | K38: * | L38: 1 | M38: 명 | N38: * | O38: 9 | P38: 월 | Q38: = | R38: =J38*L38*O38 -> 20862000
I39: 0 5급 3호봉 | J39: 2118000 | K39: * | L39: 1 | M39: 명 | N39: * | O39: 6 | P39: 월 | Q39: = | R39: =J39*L39*O39 -> 12708000
J40: 2128000 | K40: * | L40: 1 | M40: 명 | N40: * | O40: 6 | P40: 월 | Q40: = | R40: =J40*L40*O40 -> 12768000
...
